BEGIN:VCALENDAR
VERSION:2.0
PRODID: -//Q4 Inc.//EN
METHOD:PUBLISH
BEGIN:VTIMEZONE
TZID:America/New_York
X-LIC-LOCATION:America/New_York
BEGIN:DAYLIGHT
TZOFFSETFROM:-0500
TZOFFSETTO:-0400
TZNAME:EDT
DTSTART:19700308T020000
RRULE:FREQ=YEARLY;BYMONTH=3;BYDAY=2SU
END:DAYLIGHT
BEGIN:STANDARD
TZOFFSETFROM:-0400
TZOFFSETTO:-0500
TZNAME:EST
DTSTART:19701101T020000
RRULE:FREQ=YEARLY;BYMONTH=11;BYDAY=1SU
END:STANDARD
END:VTIMEZONE
BEGIN:VEVENT
ORGANIZER:MAILTO:info@blank.q4web.com
DTSTART;TZID="America/New_York":20211202T170000
DTEND;TZID="America/New_York":20211202T180000
LOCATION:
UID:215e7322-b51e-468f-acbe-470e2be3983d
DTSTAMP:20260422T042149
SUMMARY:Domo Q3 Fiscal Year 2022 Earnings Call
DESCRIPTION: View More Information: https://www.domoinvestors.com/events-and-presentations/event-details/2021/Domo-Q3-Fiscal-Year-2022-Earnings-Call/default.aspx
URL;VALUE=URI:https://www.domoinvestors.com/events-and-presentations/event-details/2021/Domo-Q3-Fiscal-Year-2022-Earnings-Call/default.aspx
PRIORITY:5
CLASS:PUBLIC
END:VEVENT
END:VCALENDAR
